BEGIN:VCALENDAR
VERSION:2.0
PRODID:-//81.19.159.47//NONSGML kigkonsult.se iCalcreator 2.20//
CALSCALE:GREGORIAN
METHOD:PUBLISH
X-WR-TIMEZONE:Europe/Vienna
BEGIN:VEVENT
UID:event1249@AV-Sierning
DTSTAMP:20260423T101731Z
CATEGORIES:Stammtisch
DESCRIPTION:Bergsteigerstammtisch\nKategorie: Stammtisch\nICS-Link: https:/
 /www.av-sierning.at/index.php?option=com_jem&view=event&id=1249:bergsteige
 rstammtisch\n
DTSTART;TZID=Europe/Vienna:20260507T190000
DTEND;TZID=Europe/Vienna:20260507T190000
LOCATION:Landhotel Forsthof\,Neustraße 29\,4522 Sierning
SUMMARY:Bergsteigerstammtisch
URL:https://www.av-sierning.at/index.php?option=com_jem&view=event&id=1249:
 bergsteigerstammtisch
END:VEVENT
END:VCALENDAR