BEGIN:VCALENDAR
VERSION:2.0
PRODID:-//81.19.159.47//NONSGML kigkonsult.se iCalcreator 2.20//
CALSCALE:GREGORIAN
METHOD:PUBLISH
X-WR-TIMEZONE:Europe/Vienna
BEGIN:VEVENT
UID:event1248@AV-Sierning
DTSTAMP:20260423T115712Z
CATEGORIES:Wandern\, Jugend
DESCRIPTION:Opt. Abendwanderung\nKategorie: Wandern\, Jugend\nICS-Link: htt
 ps://www.av-sierning.at/index.php?option=com_jem&view=event&id=1248:opt-ab
 endwanderung\n
DTSTART;VALUE=DATE:20260423
DTEND;VALUE=DATE:20260424
SUMMARY:Opt. Abendwanderung
URL:https://www.av-sierning.at/index.php?option=com_jem&view=event&id=1248:
 opt-abendwanderung
END:VEVENT
END:VCALENDAR